BEGIN:VCALENDAR
VERSION:2.0
PRODID:-//Amnesty International Italia - ECPv6.15.20//NONSGML v1.0//EN
CALSCALE:GREGORIAN
METHOD:PUBLISH
X-ORIGINAL-URL:https://www.amnesty.it
X-WR-CALDESC:Eventi per Amnesty International Italia
REFRESH-INTERVAL;VALUE=DURATION:PT1H
X-Robots-Tag:noindex
X-PUBLISHED-TTL:PT1H
BEGIN:VTIMEZONE
TZID:Europe/Rome
BEGIN:DAYLIGHT
TZOFFSETFROM:+0100
TZOFFSETTO:+0200
TZNAME:CEST
DTSTART:20230326T010000
END:DAYLIGHT
BEGIN:STANDARD
TZOFFSETFROM:+0200
TZOFFSETTO:+0100
TZNAME:CET
DTSTART:20231029T010000
END:STANDARD
BEGIN:DAYLIGHT
TZOFFSETFROM:+0100
TZOFFSETTO:+0200
TZNAME:CEST
DTSTART:20240331T010000
END:DAYLIGHT
BEGIN:STANDARD
TZOFFSETFROM:+0200
TZOFFSETTO:+0100
TZNAME:CET
DTSTART:20241027T010000
END:STANDARD
BEGIN:DAYLIGHT
TZOFFSETFROM:+0100
TZOFFSETTO:+0200
TZNAME:CEST
DTSTART:20250330T010000
END:DAYLIGHT
BEGIN:STANDARD
TZOFFSETFROM:+0200
TZOFFSETTO:+0100
TZNAME:CET
DTSTART:20251026T010000
END:STANDARD
END:VTIMEZONE
BEGIN:VEVENT
DTSTART;TZID=Europe/Rome:20240126T193000
DTEND;TZID=Europe/Rome:20240126T193000
DTSTAMP:20260425T025800
CREATED:20240102T140747Z
LAST-MODIFIED:20250702T151327Z
UID:71898-1706297400-1706297400@www.amnesty.it
SUMMARY:Il Golpe - Reading teatrale che racconta il colpo di stato in Cile
DESCRIPTION:Il Golpe\nReading teatrale che racconta il colpo di stato in Cile\na cinquant’anni dall’11 settembre 1973.\nDi e con Elisabetta Vergani e Danilo De Biasio\nVenerdì 26 gennaio\, ore 19:30\npresso la Fondazione Giangiacomo Feltrinelli\, Viale Pasubio 5 – Milano \n  \nIl reading nasce dalla cooperazione tra Radio Popolare\, Danilo De Biasio ed Elisabetta Vergani e racconta uno degli eventi più significativi della storia contemporanea: il colpo di stato in Cile dell’11 settembre 1973. \nIl reading riunisce materiale d’archivio\, interviste\, registrazioni e letture a formare una drammaturgia originale sul colpo di stato cileno del 1973. \n“Il golpe” è un pugno allo stomaco\, è un’immersione nelle profondità del tradimento politico e della violenza\, è il racconto di un evento indelebile della storia contemporanea: il colpo di stato in Cile dell’11 settembre 1973 che instaurò la dittatura di Pinochet\, al posto del governo democratico di Allende. Sono passati 50 anni e più generazioni stanno ancora facendo i conti con quei tragici fatti. \nPer partecipare è necessaria la prenotazione iscrivendosi al form. I posti sono limitati. \n\n\n\nIscriviti all’evento\nNon è più possibile iscriversi a questo evento.
URL:https://www.amnesty.it/eventi/il-golpe-reading-teatrale-che-racconta-il-colpo-di-stato-in-cile/
LOCATION:Fondazione Giangiacomo Feltrinelli\, Viale Pasubio\, 5\, Milano\, Italy
ATTACH;FMTTYPE=image/jpeg:https://www.amnesty.it/public/uploads/2024/01/cile-golpe-1973-pinochet-allende.jpg
END:VEVENT
END:VCALENDAR