BEGIN:VCALENDAR
VERSION:2.0
PRODID:-//Amnesty International Italia - ECPv6.15.20//NONSGML v1.0//EN
CALSCALE:GREGORIAN
METHOD:PUBLISH
X-WR-CALNAME:Amnesty International Italia
X-ORIGINAL-URL:https://www.amnesty.it
X-WR-CALDESC:Eventi per Amnesty International Italia
REFRESH-INTERVAL;VALUE=DURATION:PT1H
X-Robots-Tag:noindex
X-PUBLISHED-TTL:PT1H
BEGIN:VTIMEZONE
TZID:Europe/Rome
BEGIN:DAYLIGHT
TZOFFSETFROM:+0100
TZOFFSETTO:+0200
TZNAME:CEST
DTSTART:20230326T010000
END:DAYLIGHT
BEGIN:STANDARD
TZOFFSETFROM:+0200
TZOFFSETTO:+0100
TZNAME:CET
DTSTART:20231029T010000
END:STANDARD
BEGIN:DAYLIGHT
TZOFFSETFROM:+0100
TZOFFSETTO:+0200
TZNAME:CEST
DTSTART:20240331T010000
END:DAYLIGHT
BEGIN:STANDARD
TZOFFSETFROM:+0200
TZOFFSETTO:+0100
TZNAME:CET
DTSTART:20241027T010000
END:STANDARD
BEGIN:DAYLIGHT
TZOFFSETFROM:+0100
TZOFFSETTO:+0200
TZNAME:CEST
DTSTART:20250330T010000
END:DAYLIGHT
BEGIN:STANDARD
TZOFFSETFROM:+0200
TZOFFSETTO:+0100
TZNAME:CET
DTSTART:20251026T010000
END:STANDARD
END:VTIMEZONE
BEGIN:VEVENT
DTSTART;TZID=Europe/Rome:20240710T190000
DTEND;TZID=Europe/Rome:20240718T190000
DTSTAMP:20260426T035421
CREATED:20240528T150847Z
LAST-MODIFIED:20250702T121127Z
UID:74092-1720638000-1721329200@www.amnesty.it
SUMMARY:Ciclo di webinar sulla crisi a Gaza
DESCRIPTION:La strada verso la giustizia dei Territori palestinesi occupati\nLe prospettive di diritto internazionale e le ricerche di Amnesty International \nciclo di webinar \nDal 7 ottobre 2023 la crisi nella Striscia di Gaza occupata è diventata catastrofica e niente sembra riuscire a fermare i crimini di guerra e crimini contro l’umanità che colpiscono la popolazione civile. Amnesty International continua a raccogliere senza sosta dati e testimonianze affinché questi orrori non restino impuniti. Prosegue anche il lavoro di pressione per fare in modo che la comunità internazionale riconosca e affronti le cause profonde del conflitto\, come l’apartheid e l’occupazione.  Attraverso due incontri online proveremo a fare un’analisi giuridica di quanto sta accadendo e le risposte del diritto internazionale. Affronteremo anche il ruolo cruciale della società civile e della solidarietà internazionale. \nI due webinar vedranno protagoniste Francesca Albanese\, relatrice speciale delle Nazioni Unite sui diritti umani nel territorio palestinese occupato dal 1967\, e Grazia Careccia\, vicedirettrice per il Medio Oriente e l’Africa del Nord di Amnesty International. Tina Marinari\, campaign coordinator di Amnesty International Italia\, farà da moderatrice. \n\nWebinar con Grazia Careccia\nMercoledì 10 luglio alle ore 19:00 \nGrazia Careccia ci illustrerà come Amnesty International porta avanti il lavoro di ricerca in contesti di conflitto\, quali sono le tecniche e le policy da seguire. Racconterà delle difficoltà di lavorare in situazioni di crisi e l’accuratezza nella ricerca delle fonti. \n  \n  \n\nWebinar con Francesca Albanese\nMartedì 18 giugno alle ore 19:00 \nIl 18 giugno Francesca Albanese ci ha raccontato il contesto\, i fatti e le analisi presentate nel suo ultimo rapporto\, “Anatomia di un Genocidio”\, che hanno condotto a concludere che la soglia che indica che la commissione del crimine di genocidio contro i palestinesi a Gaza da parte di Israele sia raggiunta. \n  \n  \n\n\n\nIscriviti al webinar\nNon è più possibile iscriversi a questo evento.
URL:https://www.amnesty.it/eventi/ciclo-di-webinar-sulla-crisi-a-gaza/
ATTACH;FMTTYPE=image/png:https://www.amnesty.it/public/uploads/2024/06/webinar-gaza-2.png
END:VEVENT
END:VCALENDAR