BEGIN:VCALENDAR
VERSION:2.0
PRODID:-//Amnesty International Italia - ECPv6.15.20//NONSGML v1.0//EN
CALSCALE:GREGORIAN
METHOD:PUBLISH
X-ORIGINAL-URL:https://www.amnesty.it
X-WR-CALDESC:Eventi per Amnesty International Italia
REFRESH-INTERVAL;VALUE=DURATION:PT1H
X-Robots-Tag:noindex
X-PUBLISHED-TTL:PT1H
BEGIN:VTIMEZONE
TZID:Europe/Rome
BEGIN:DAYLIGHT
TZOFFSETFROM:+0100
TZOFFSETTO:+0200
TZNAME:CEST
DTSTART:20240331T010000
END:DAYLIGHT
BEGIN:STANDARD
TZOFFSETFROM:+0200
TZOFFSETTO:+0100
TZNAME:CET
DTSTART:20241027T010000
END:STANDARD
BEGIN:DAYLIGHT
TZOFFSETFROM:+0100
TZOFFSETTO:+0200
TZNAME:CEST
DTSTART:20250330T010000
END:DAYLIGHT
BEGIN:STANDARD
TZOFFSETFROM:+0200
TZOFFSETTO:+0100
TZNAME:CET
DTSTART:20251026T010000
END:STANDARD
BEGIN:DAYLIGHT
TZOFFSETFROM:+0100
TZOFFSETTO:+0200
TZNAME:CEST
DTSTART:20260329T010000
END:DAYLIGHT
BEGIN:STANDARD
TZOFFSETFROM:+0200
TZOFFSETTO:+0100
TZNAME:CET
DTSTART:20261025T010000
END:STANDARD
END:VTIMEZONE
BEGIN:VEVENT
DTSTART;TZID=Europe/Rome:20250204T190000
DTEND;TZID=Europe/Rome:20250204T190000
DTSTAMP:20260425T165658
CREATED:20250108T144420Z
LAST-MODIFIED:20250702T095258Z
UID:76622-1738695600-1738695600@www.amnesty.it
SUMMARY:Webinar - Presentazione del rapporto sul genocidio di Israele a Gaza
DESCRIPTION:Presentazione del rapporto sul genocidio di Israele a Gaza\nwebinar\nMartedì 4 febbraio alle ore 19.00 \nIl lavoro di ricerca di Amnesty International nel Territorio palestinese occupato e Israele non si è mai fermato. Dal rapporto sul crimine di apartheid contro la popolazione palestinese\, alle indagini e ricerche dal 7 ottobre 2023 in poi. Nel nostro ultimo rapporto “Ti senti come se fossi un subumano: il genocidio di Israele contro la popolazione palestinese a Gaza”\, i nostri ricercatori e ricercatrici hanno raccolto prove e sufficienti elementi per giungere alla conclusione che Israele ha commesso e sta continuando a commettere genocidio nei confronti della popolazione palestinese nella Striscia di Gaza occupata. \nL’incontro online intende approfondire i contenuti del rapporto da un punto di vista legale con un focus specifico sul metodo e strumenti della ricerca. Il 4 febbraio alle 19.00 su zoom interverranno: \n\nBodour Hassan\, ricercatrice di Amnesty International in collegamento da Gerusalemme\nErika Guevara-Rosas\,  alta direttrice per le ricerche e le campagne di Amnesty International\nTina Marinari\, campaign manager dell’ufficio campagne di Amnesty International Italia\nVito Todeschini\, legal advisor presso di Amnesty International in collegamento da Washington\n\nL’incontro si svolgerà in lingua italiana con traduzione simultanea.   \n\n\n\nIscriviti al webinar\nI posti disponibili sono terminati. Procedendo con l’iscrizione potrai comunque ricevere il link alla registrazione del webinar nei giorni i successivi. \nNon è più possibile iscriversi a questo evento.
URL:https://www.amnesty.it/eventi/webinar-presentazione-del-rapporto-sul-genocidio-di-israele-a-gaza/
ATTACH;FMTTYPE=image/png:https://www.amnesty.it/public/uploads/2025/01/panel-webinar-genocidio-gaza.png
END:VEVENT
END:VCALENDAR