BEGIN:VCALENDAR
VERSION:2.0
PRODID:-//Amnesty International Italia - ECPv6.15.20//NONSGML v1.0//EN
CALSCALE:GREGORIAN
METHOD:PUBLISH
X-ORIGINAL-URL:https://www.amnesty.it
X-WR-CALDESC:Eventi per Amnesty International Italia
REFRESH-INTERVAL;VALUE=DURATION:PT1H
X-Robots-Tag:noindex
X-PUBLISHED-TTL:PT1H
BEGIN:VTIMEZONE
TZID:Europe/Rome
BEGIN:DAYLIGHT
TZOFFSETFROM:+0100
TZOFFSETTO:+0200
TZNAME:CEST
DTSTART:20230326T010000
END:DAYLIGHT
BEGIN:STANDARD
TZOFFSETFROM:+0200
TZOFFSETTO:+0100
TZNAME:CET
DTSTART:20231029T010000
END:STANDARD
BEGIN:DAYLIGHT
TZOFFSETFROM:+0100
TZOFFSETTO:+0200
TZNAME:CEST
DTSTART:20240331T010000
END:DAYLIGHT
BEGIN:STANDARD
TZOFFSETFROM:+0200
TZOFFSETTO:+0100
TZNAME:CET
DTSTART:20241027T010000
END:STANDARD
BEGIN:DAYLIGHT
TZOFFSETFROM:+0100
TZOFFSETTO:+0200
TZNAME:CEST
DTSTART:20250330T010000
END:DAYLIGHT
BEGIN:STANDARD
TZOFFSETFROM:+0200
TZOFFSETTO:+0100
TZNAME:CET
DTSTART:20251026T010000
END:STANDARD
END:VTIMEZONE
BEGIN:VEVENT
DTSTART;TZID=Europe/Rome:20240930T170000
DTEND;TZID=Europe/Rome:20240930T170000
DTSTAMP:20260426T021918
CREATED:20230810T095716Z
LAST-MODIFIED:20250702T125118Z
UID:69939-1727715600-1727715600@www.amnesty.it
SUMMARY:Accogliere e dare voce a chi difende i diritti umani
DESCRIPTION:ACCOGLIERE E DARE VOCE A CHI DIFENDE I DIRITTI UMANI \nSabato 30 settembre\, ore 17.00\nSala Consiliare del III Municipio di Roma\nPiazza Sempione\, 15 \n  \nIn ogni parte del mondo\, governi\, gruppi armati\, aziende e altre entità potenti che vedono i propri interessi minacciati cercano di mettere a tacere chi protesta e chi manifesta il proprio dissenso\, in particolare i difensori dei diritti umani. \nCome è possibile supportare i difensori dei diritti umani a rischio nel mondo attraverso programmi di accoglienza specifica? Quale può essere il ruolo dei territori? Per provare a rispondere a queste e ad altre domande\, Amnesty International Italia e Municipio III di Roma organizzano la conferenza “Accogliere e dare voce a chi difende i diritti umani”. \n  \nIntervengono: \nLuca Blasi\, Assessore del III Municipio con delega in materia di Politiche Culturali e Diritto all’Abitare \nLivio Pepino\, già magistrato e presidente di Magistratura democratica\, direttore delle Edizioni Gruppo Abele \nFrancesco Martone\, portavoce della Rete In Difesa di \nFrancesca Loffari\, Institutional Affairs Senior Officer Amnesty International Italia \nMohamed Dihani\, difensore dei diritti umani del popolo Saharawi \nNour Khalil\, difensore dei diritti umani e fondatore dell’associazione Refugees Platform in Egypt \nModera: Laura Renzi\, Campaign Manager Amnesty International Italia \n  \nSarà inoltre possibile vedere la mostra fotografica “Proteggo la protesta”: 17 fotografie di altrettante proteste che hanno avuto luogo in diversi paesi del mondo. \n  \nPer partecipare è necessaria la prenotazione iscrivendosi al form. I posti sono limitati. \n\n\n\nIscriviti all’evento\nNon è più possibile iscriversi a questo evento.
URL:https://www.amnesty.it/eventi/accogliere-e-dare-voce-a-chi-difende-i-diritti-umani/
LOCATION:Sala Consiliare\, Piazza Sempione\, 15\, Roma\, Italy
ATTACH;FMTTYPE=image/png:https://www.amnesty.it/public/uploads/2018/01/header-campagna-difensori.png
END:VEVENT
END:VCALENDAR