BEGIN:VCALENDAR
VERSION:2.0
PRODID:-//Amnesty International Italia - ECPv6.15.20//NONSGML v1.0//EN
CALSCALE:GREGORIAN
METHOD:PUBLISH
X-WR-CALNAME:Amnesty International Italia
X-ORIGINAL-URL:https://www.amnesty.it
X-WR-CALDESC:Eventi per Amnesty International Italia
REFRESH-INTERVAL;VALUE=DURATION:PT1H
X-Robots-Tag:noindex
X-PUBLISHED-TTL:PT1H
BEGIN:VTIMEZONE
TZID:Europe/Rome
BEGIN:DAYLIGHT
TZOFFSETFROM:+0100
TZOFFSETTO:+0200
TZNAME:CEST
DTSTART:20240331T010000
END:DAYLIGHT
BEGIN:STANDARD
TZOFFSETFROM:+0200
TZOFFSETTO:+0100
TZNAME:CET
DTSTART:20241027T010000
END:STANDARD
BEGIN:DAYLIGHT
TZOFFSETFROM:+0100
TZOFFSETTO:+0200
TZNAME:CEST
DTSTART:20250330T010000
END:DAYLIGHT
BEGIN:STANDARD
TZOFFSETFROM:+0200
TZOFFSETTO:+0100
TZNAME:CET
DTSTART:20251026T010000
END:STANDARD
BEGIN:DAYLIGHT
TZOFFSETFROM:+0100
TZOFFSETTO:+0200
TZNAME:CEST
DTSTART:20260329T010000
END:DAYLIGHT
BEGIN:STANDARD
TZOFFSETFROM:+0200
TZOFFSETTO:+0100
TZNAME:CET
DTSTART:20261025T010000
END:STANDARD
END:VTIMEZONE
BEGIN:VEVENT
DTSTART;TZID=Europe/Rome:20250307T183000
DTEND;TZID=Europe/Rome:20250307T183000
DTSTAMP:20260425T163812
CREATED:20250220T161504Z
LAST-MODIFIED:20250702T094358Z
UID:77155-1741372200-1741372200@www.amnesty.it
SUMMARY:La stessa lotta\, gli stessi diritti 2025
DESCRIPTION:La stessa lotta\, gli stessi diritti.\nDall’Iran all’Italia\, passando per la Palestina: storie di donne che lottano.\nVenerdì 7 marzo dalle ore 18.30\nSpinTime\, Via Di Santa Croce in Gerusalemme\, 55 – Roma \nIn occasione della Giornata internazionale delle donne\, per il secondo anno consecutivo una serata di musica e lotta. Si parlerà di Iran\, paese in cui le autorità stanno cercando in tutti i modi di spezzare il movimento Donna Vita Libertà. Di Palestina\, dove le donne stanno affrontando una delle peggiori crisi dei diritti umani della storia recente. E di Italia\, dove le donne devono fronteggiare ostacoli culturali e legislativi. \nProgramma\n18.30/20.30 – Dibattito\nIntroduzione a cura di Sara Moutawakil \n\nJasmine Barri – Artista visiva italo-palestinese\, attivista femminista.\nDaniela Ionita – Rappresentante del movimento Italiani Senza Cittadinanza.\nMaysoon Majidi – Attivista curda per i diritti delle donne.\nParisa Nazari – attivista movimento italo-iraniano “Donna Vita Libertà”\n\nModera: Tina Marinari\, coordinatrice campagne di Amnesty International Italia. \n  \n\n20.30/21.00 – Cena\nIl ristorante di SpinTime resterà aperto per chi desidera cenare. \n  \n21.00/00.00  DJ set multiculturali a tema femminista\n\n Päm (Libano) – 50 minuti\nKandeesha (Marocco) – 50 minuti\nLa Reina del Fomento – 50 minuti\n\nMusiche\, socializzazione e celebrazione delle lotte globali delle donne. \n\n\n\nIscriviti all’evento\nNon è più possibile iscriversi a questo evento.
URL:https://www.amnesty.it/eventi/la-stessa-lotta-gli-stessi-diritti-2025/
LOCATION:SpinTime\, Via Di Santa Croce in Gerusalemme\, 55\, Roma\, Italy
ATTACH;FMTTYPE=image/png:https://www.amnesty.it/public/uploads/2024/02/la-stessa-lotta.png
END:VEVENT
END:VCALENDAR