BEGIN:VCALENDAR
VERSION:2.0
PRODID:-//Amnesty International Italia - ECPv6.15.20//NONSGML v1.0//EN
CALSCALE:GREGORIAN
METHOD:PUBLISH
X-WR-CALNAME:Amnesty International Italia
X-ORIGINAL-URL:https://www.amnesty.it
X-WR-CALDESC:Eventi per Amnesty International Italia
REFRESH-INTERVAL;VALUE=DURATION:PT1H
X-Robots-Tag:noindex
X-PUBLISHED-TTL:PT1H
BEGIN:VTIMEZONE
TZID:Europe/Rome
BEGIN:DAYLIGHT
TZOFFSETFROM:+0100
TZOFFSETTO:+0200
TZNAME:CEST
DTSTART:20240331T010000
END:DAYLIGHT
BEGIN:STANDARD
TZOFFSETFROM:+0200
TZOFFSETTO:+0100
TZNAME:CET
DTSTART:20241027T010000
END:STANDARD
BEGIN:DAYLIGHT
TZOFFSETFROM:+0100
TZOFFSETTO:+0200
TZNAME:CEST
DTSTART:20250330T010000
END:DAYLIGHT
BEGIN:STANDARD
TZOFFSETFROM:+0200
TZOFFSETTO:+0100
TZNAME:CET
DTSTART:20251026T010000
END:STANDARD
BEGIN:DAYLIGHT
TZOFFSETFROM:+0100
TZOFFSETTO:+0200
TZNAME:CEST
DTSTART:20260329T010000
END:DAYLIGHT
BEGIN:STANDARD
TZOFFSETFROM:+0200
TZOFFSETTO:+0100
TZNAME:CET
DTSTART:20261025T010000
END:STANDARD
END:VTIMEZONE
BEGIN:VEVENT
DTSTART;TZID=Europe/Rome:20250404T183000
DTEND;TZID=Europe/Rome:20250404T183000
DTSTAMP:20260425T151252
CREATED:20250320T111808Z
LAST-MODIFIED:20250627T135956Z
UID:77654-1743791400-1743791400@www.amnesty.it
SUMMARY:Voci dal Sahara Occidentale
DESCRIPTION:Voci dal Sahara Occidentale\nVenerdì 4 aprile dalle ore 18.30 fino a mezzanotte \nCantiere\, Via Monte Rosa 84 – Milano \nUna serata di dibattiti\, musica e cultura per parlare di Sahara occidentale e dell’impegno di Amnesty International Italia a 50 anni dalla sua fondazione. \nProgramma\n18.30/18.45 – Saluti di rappresentanti di Amnesty International Lombardia e Il Cantiere\n18.45/19.30 – Amnesty e la lotta per i diritti nel Sahara Occidentale\nRelatrici: \n\nAlba Bonetti (presidente Amnesty International Italia): “L’impegno storico e attuale di Amnesty nella regione”\nFatima Mahfud (delegata del popolo Saharawi): Testimonianza diretta sulle sfide geopolitiche e umanitarie\n\nModera: \n\nLucrezia Boscari (attivista Amnesty per la regione SWANA)\n\n19.30/19.45 – Intermezzo musicale\nEsecuzione di melodie tradizionali saharawi per immergere il pubblico nella cultura locale. \n19.45/20.30 – Attivismo\, protezione e futuro\n\nMohamed Dihani (attivista Saharawi): “Repressioni e resistenza nella quotidianità” + testimonianza personale\nDebora Del Pistoia (ex ricercatrice Amnesty SWANA\, attualmente ricercatrice Amnesty Italia): “Amnesty in azione: strategie e prospettive”\n\n20.30/21.30 – Cena comunitaria e attività culturali\n\nCena sociale: piatti tipici per un dialogo tra culture (a pagamento)*\nMostra fotografica: “Saharawi. Oltre l’attesa” di Renato Ferrantini\nPresentazione libro: “Mariem Hassan: La voce ribelle del Sahara” con Gianluca Diana (Giornalista del Manifesto e RSI)\nAmbientazione musicale: brani tradizionali saharawi in sottofondo durante la cena\n\n22.00/00.00 – Spettacolo e chiusura\n\nPoesia: “Compagni di prigione” (testo originale in arabo di Mohamed Dihani\, recitato con traduzione simultanea in italiano e accompagnamento musicale).\nMusica dal vivo:\n\nElectro Fazzeni (Afif Ben Fakih e Youssef Fateh): fusione tra sonorità tradizionali saharawi\, nordafricane ed elettronica\nDJ Set Bechkewa (Kais Zriba e Rabia Ibrahim): ritmi nordafricani e sonorità globali con percussioni saharawi live\n\n\n\n* se hai delle intolleranze da segnalare scrivici. \n\n\n\nIscriviti all’evento\nNon è più possibile iscriversi a questo evento.
URL:https://www.amnesty.it/eventi/voci-dal-sahara-occidentale/
LOCATION:Cantiere\, Via Monte Rosa 84\, Milano\, Italy
ATTACH;FMTTYPE=image/png:https://www.amnesty.it/public/uploads/2025/03/sahara-occidentale-saharawi.png
END:VEVENT
END:VCALENDAR