BEGIN:VCALENDAR
VERSION:2.0
PRODID:-//Amnesty International Italia - ECPv6.15.20//NONSGML v1.0//EN
CALSCALE:GREGORIAN
METHOD:PUBLISH
X-ORIGINAL-URL:https://www.amnesty.it
X-WR-CALDESC:Eventi per Amnesty International Italia
REFRESH-INTERVAL;VALUE=DURATION:PT1H
X-Robots-Tag:noindex
X-PUBLISHED-TTL:PT1H
BEGIN:VTIMEZONE
TZID:Europe/Rome
BEGIN:DAYLIGHT
TZOFFSETFROM:+0100
TZOFFSETTO:+0200
TZNAME:CEST
DTSTART:20250330T010000
END:DAYLIGHT
BEGIN:STANDARD
TZOFFSETFROM:+0200
TZOFFSETTO:+0100
TZNAME:CET
DTSTART:20251026T010000
END:STANDARD
BEGIN:DAYLIGHT
TZOFFSETFROM:+0100
TZOFFSETTO:+0200
TZNAME:CEST
DTSTART:20260329T010000
END:DAYLIGHT
BEGIN:STANDARD
TZOFFSETFROM:+0200
TZOFFSETTO:+0100
TZNAME:CET
DTSTART:20261025T010000
END:STANDARD
BEGIN:DAYLIGHT
TZOFFSETFROM:+0100
TZOFFSETTO:+0200
TZNAME:CEST
DTSTART:20270328T010000
END:DAYLIGHT
BEGIN:STANDARD
TZOFFSETFROM:+0200
TZOFFSETTO:+0100
TZNAME:CET
DTSTART:20271031T010000
END:STANDARD
END:VTIMEZONE
BEGIN:VEVENT
DTSTART;TZID=Europe/Rome:20260305T183000
DTEND;TZID=Europe/Rome:20260305T200000
DTSTAMP:20260424T220226
CREATED:20260224T112621Z
LAST-MODIFIED:20260224T113157Z
UID:85065-1772735400-1772740800@www.amnesty.it
SUMMARY:Riccardo Magherini. Finalmente un po’ di giustizia
DESCRIPTION:Dopo Aldrovandi\, Uva\, Cucchi e altre morti di stato è arrivata un po’ di giustizia anche per l’uccisione di Riccardo Magherini\, avvenuta la notte tra il 2 e il 3 marzo del 2014 a Firenze. \nNe parlano in un’iniziativa organizzata da  La Berta e A Buon Diritto Onlus: \n\nGuido Magherini\, padre di Riccardo\nFabio Anselmo\, avvocato\nIlaria Cucchi\, senatrice\nLuigi Manconi\, A Buon Diritto\nRiccardo Noury\, Amnesty International Italia\n\nModera: \n\nValentina Calderone\, garante delle persone private della libertà personale di Roma
URL:https://www.amnesty.it/eventi/riccardo-magherini-finalmente-un-po-di-giustizia/
LOCATION:La Berta\, Via Ciro da Urbino\, 16\, Roma\, Italy
END:VEVENT
BEGIN:VEVENT
DTSTART;TZID=Europe/Rome:20260314T160000
DTEND;TZID=Europe/Rome:20260314T170000
DTSTAMP:20260424T220226
CREATED:20260220T132135Z
LAST-MODIFIED:20260220T132135Z
UID:84997-1773504000-1773507600@www.amnesty.it
SUMMARY:Una questione di consenso - Fa’ la cosa giusta! 2026
DESCRIPTION:Un confronto per riportare al centro del dibattito un principio semplice ma ancora troppo spesso ignorato: senza consenso\, è violenza. Il panel esplora gli ostacoli che le persone sopravvissute incontrano nell’accesso alla giustizia – stereotipi di genere\, leggi inadeguate\, colpevolizzazione\, mancanza di sostegno – mettendo in luce quanto la cultura del consenso sia fondamentale per tutelare diritti\, autonomia e dignità. Un invito a cambiare prospettiva\, per costruire una società che riconosca e protegga davvero l’integrità di ogni individuo. \nInterventi\n\nAlba Bonetti\nTina Marinari
URL:https://www.amnesty.it/eventi/una-questione-di-consenso-fa-la-cosa-giusta-2026/
LOCATION:Fiera Milano Rho (Padiglioni 16 e 20)\, Strada Statale 33 Del Sempione 28\, Rho\, Italy
ATTACH;FMTTYPE=image/png:https://www.amnesty.it/public/uploads/2026/02/Orizzontale_FLCG-2026.png
END:VEVENT
END:VCALENDAR